BEGIN:VCALENDAR
VERSION:2.0
PRODID:-//lickingswcd.com//NONSGML kigkonsult.se iCalcreator 2.30.10//
CALSCALE:GREGORIAN
METHOD:PUBLISH
UID:10ea0010-7fdf-4c8b-b179-f7441c112090
X-WR-CALDESC:
X-WR-RELCALID:1d0fc23c3987f19371a696af65deeb8f
X-WR-TIMEZONE:America/New_York
BEGIN:VTIMEZONE
TZID:America/New_York
BEGIN:STANDARD
TZNAME:EST
DTSTART:20211107T020000
TZOFFSETFROM:-0400
TZOFFSETTO:-0500
RDATE:20221106T020000
END:STANDARD
BEGIN:DAYLIGHT
TZNAME:EDT
DTSTART:20210314T020000
TZOFFSETFROM:-0500
TZOFFSETTO:-0400
RDATE:20220313T020000
RDATE:20230312T020000
END:DAYLIGHT
END:VTIMEZONE
BEGIN:VEVENT
UID:827ce919-d777-4d53-9e6c-504951a34ae5
DTSTAMP:20260423T123149Z
DESCRIPTION:
DTSTART;TZID=America/New_York:20211128T000000
DTEND;TZID=America/New_York:20211128T235900
LOCATION:
SUMMARY:Thanksgiving Day - office closed
END:VEVENT
END:VCALENDAR
