BEGIN:VCALENDAR
VERSION:2.0
PRODID:-//lickingswcd.com//NONSGML kigkonsult.se iCalcreator 2.30.10//
CALSCALE:GREGORIAN
METHOD:PUBLISH
UID:93c66e77-7813-4297-bc05-6052b69360e9
X-WR-CALDESC:The public is welcome to attend monthly Board meetings and ser
 ve on committees.\nIn response to the public health situation with COVID-1
 9\, Governor DeWine’s directives and the Ohio Department of Health’s guida
 nce on avoiding large gatherings\, Soil & Water provides online meeting li
 nks to the public or guests who would like to attend the Board meeting.  
 \n\nContact Soil & Water at 740-670-5330 or email information@LickingSWCD.
 com to have the zoom meeting information sent to you electronically.
X-WR-RELCALID:7e6c85af7258a854c9bcc792073324d0
X-WR-TIMEZONE:America/New_York
BEGIN:VTIMEZONE
TZID:America/New_York
BEGIN:STANDARD
TZNAME:EST
DTSTART:20211107T020000
TZOFFSETFROM:-0400
TZOFFSETTO:-0500
RDATE:20221106T020000
END:STANDARD
BEGIN:DAYLIGHT
TZNAME:EDT
DTSTART:20210314T020000
TZOFFSETFROM:-0500
TZOFFSETTO:-0400
RDATE:20220313T020000
RDATE:20230312T020000
END:DAYLIGHT
END:VTIMEZONE
BEGIN:VEVENT
UID:8739e368-2eef-4c0d-b868-ee0376a2cf7e
DTSTAMP:20260423T114450Z
DESCRIPTION:The public is welcome to attend monthly Board meetings and serv
 e on committees.\nIn response to the public health situation with COVID-19
 \, Governor DeWine’s directives and the Ohio Department of Health’s guidan
 ce on avoiding large gatherings\, Soil & Water provides online meeting lin
 ks to the public or guests who would like to attend the Board meeting.  \n
 \nContact Soil & Water at 740-670-5330 or email information@LickingSWCD.co
 m to have the zoom meeting information sent to you electronically.
DTSTART;TZID=America/New_York:20211214T153000
DTEND;TZID=America/New_York:20211214T173000
LOCATION:126 E Elm St\, Granville\, OH 43023
SUMMARY:Soil & Water Board of Supervisors regular monthly meeting
END:VEVENT
END:VCALENDAR
