BEGIN:VCALENDAR
VERSION:2.0
PRODID:-//lickingswcd.com//NONSGML kigkonsult.se iCalcreator 2.30.10//
CALSCALE:GREGORIAN
METHOD:PUBLISH
UID:9249fe35-74c7-4d4d-ae18-3fcaa792588b
X-WR-CALDESC:
X-WR-RELCALID:a6c497c33ecfae179ec27c18a3fa947e
X-WR-TIMEZONE:America/New_York
BEGIN:VTIMEZONE
TZID:America/New_York
BEGIN:STANDARD
TZNAME:EST
DTSTART:20211107T020000
TZOFFSETFROM:-0400
TZOFFSETTO:-0500
RDATE:20221106T020000
END:STANDARD
BEGIN:DAYLIGHT
TZNAME:EDT
DTSTART:20210314T020000
TZOFFSETFROM:-0500
TZOFFSETTO:-0400
RDATE:20220313T020000
RDATE:20230312T020000
END:DAYLIGHT
END:VTIMEZONE
BEGIN:VEVENT
UID:6dd4824b-744c-41a0-8fb2-99b870334d16
DTSTAMP:20260423T110614Z
DESCRIPTION:
DTSTART;TZID=America/New_York:20211224T000000
DTEND;TZID=America/New_York:20211224T235900
LOCATION:
SUMMARY:Christmas Eve - Office Closed
END:VEVENT
END:VCALENDAR
