BEGIN:VCALENDAR
VERSION:2.0
PRODID:-//lickingswcd.com//NONSGML kigkonsult.se iCalcreator 2.30.10//
CALSCALE:GREGORIAN
METHOD:PUBLISH
UID:ffd0e78e-52f5-45d5-96f3-cb219562027b
X-WR-CALDESC:
X-WR-RELCALID:42b4671cdfd29629ec9a8e5a01b84d39
X-WR-TIMEZONE:America/New_York
BEGIN:VTIMEZONE
TZID:America/New_York
BEGIN:STANDARD
TZNAME:EST
DTSTART:20211107T020000
TZOFFSETFROM:-0400
TZOFFSETTO:-0500
RDATE:20221106T020000
END:STANDARD
BEGIN:DAYLIGHT
TZNAME:EDT
DTSTART:20210314T020000
TZOFFSETFROM:-0500
TZOFFSETTO:-0400
RDATE:20220313T020000
RDATE:20230312T020000
END:DAYLIGHT
END:VTIMEZONE
BEGIN:VEVENT
UID:017849fe-0443-4111-9853-4dc8a65607a8
DTSTAMP:20260423T112520Z
DESCRIPTION:
DTSTART;TZID=America/New_York:20211225T000000
DTEND;TZID=America/New_York:20211225T235900
LOCATION:
SUMMARY:Christmas Day - office closed
END:VEVENT
END:VCALENDAR
