BEGIN:VCALENDAR
VERSION:2.0
PRODID:-//lickingswcd.com//NONSGML kigkonsult.se iCalcreator 2.30.10//
CALSCALE:GREGORIAN
METHOD:PUBLISH
UID:4d1a3148-b428-43ee-b458-962b53fc3572
X-WR-CALDESC:
X-WR-RELCALID:ac57da5cd945b3b28811dd8d171f9c4b
X-WR-TIMEZONE:America/New_York
BEGIN:VTIMEZONE
TZID:America/New_York
BEGIN:STANDARD
TZNAME:EST
DTSTART:20211107T020000
TZOFFSETFROM:-0400
TZOFFSETTO:-0500
RDATE:20221106T020000
END:STANDARD
BEGIN:DAYLIGHT
TZNAME:EDT
DTSTART:20210314T020000
TZOFFSETFROM:-0500
TZOFFSETTO:-0400
RDATE:20220313T020000
RDATE:20230312T020000
END:DAYLIGHT
END:VTIMEZONE
BEGIN:VEVENT
UID:1163eea2-cff0-4420-895e-c3dd313c8d7e
DTSTAMP:20260423T112817Z
DESCRIPTION:
DTSTART;TZID=America/New_York:20211231T000000
DTEND;TZID=America/New_York:20211231T235900
LOCATION:
SUMMARY:New Years Eve - Office Closed
END:VEVENT
END:VCALENDAR
