BEGIN:VCALENDAR
VERSION:2.0
PRODID:-//lickingswcd.com//NONSGML kigkonsult.se iCalcreator 2.30.10//
CALSCALE:GREGORIAN
METHOD:PUBLISH
UID:fd3aca89-676f-429b-8501-a651aa6a540a
X-WR-CALDESC:
X-WR-RELCALID:16b3a33c259c99d838912e9cf8b8e18d
X-WR-TIMEZONE:America/New_York
BEGIN:VTIMEZONE
TZID:America/New_York
BEGIN:STANDARD
TZNAME:EST
DTSTART:20211107T020000
TZOFFSETFROM:-0400
TZOFFSETTO:-0500
RDATE:20221106T020000
END:STANDARD
BEGIN:DAYLIGHT
TZNAME:EDT
DTSTART:20210314T020000
TZOFFSETFROM:-0500
TZOFFSETTO:-0400
RDATE:20220313T020000
RDATE:20230312T020000
END:DAYLIGHT
END:VTIMEZONE
BEGIN:VEVENT
UID:97505563-9b56-4996-8795-c4647976b946
DTSTAMP:20260423T093058Z
DESCRIPTION:
DTSTART;TZID=America/New_York:20220201T000000
DTEND;TZID=America/New_York:20220201T235900
LOCATION:
SUMMARY:Start of Black History Month
END:VEVENT
END:VCALENDAR
