BEGIN:VCALENDAR
VERSION:2.0
PRODID:-//lickingswcd.com//NONSGML kigkonsult.se iCalcreator 2.30.10//
CALSCALE:GREGORIAN
METHOD:PUBLISH
UID:739a8c5e-26c2-4aa3-ac7b-9dbcf7f93fa1
X-WR-CALDESC:
X-WR-RELCALID:45798aaac83d1f2c20609bdafe5b2c90
X-WR-TIMEZONE:America/New_York
BEGIN:VTIMEZONE
TZID:America/New_York
BEGIN:STANDARD
TZNAME:EST
DTSTART:20211107T020000
TZOFFSETFROM:-0400
TZOFFSETTO:-0500
RDATE:20221106T020000
END:STANDARD
BEGIN:DAYLIGHT
TZNAME:EDT
DTSTART:20210314T020000
TZOFFSETFROM:-0500
TZOFFSETTO:-0400
RDATE:20220313T020000
RDATE:20230312T020000
END:DAYLIGHT
END:VTIMEZONE
BEGIN:VEVENT
UID:c40b51b7-6fde-46a6-8fda-d6a343e163cb
DTSTAMP:20260421T081819Z
DESCRIPTION:
DTSTART;TZID=America/New_York:20220212T000000
DTEND;TZID=America/New_York:20220216T235900
LOCATION:
SUMMARY:NACD 2022 Annual Meeting
END:VEVENT
END:VCALENDAR
