BEGIN:VCALENDAR
VERSION:2.0
PRODID:-//lickingswcd.com//NONSGML kigkonsult.se iCalcreator 2.30.10//
CALSCALE:GREGORIAN
METHOD:PUBLISH
UID:d65078c4-ea8d-45e1-8851-56eab892f10a
X-WR-CALDESC:
X-WR-RELCALID:dd3fa2606f6114882026b0b056855f00
X-WR-TIMEZONE:America/New_York
BEGIN:VTIMEZONE
TZID:America/New_York
BEGIN:STANDARD
TZNAME:EST
DTSTART:20211107T020000
TZOFFSETFROM:-0400
TZOFFSETTO:-0500
RDATE:20221106T020000
END:STANDARD
BEGIN:DAYLIGHT
TZNAME:EDT
DTSTART:20210314T020000
TZOFFSETFROM:-0500
TZOFFSETTO:-0400
RDATE:20220313T020000
RDATE:20230312T020000
END:DAYLIGHT
END:VTIMEZONE
BEGIN:VEVENT
UID:bf035e19-8e1e-4825-b011-2ebd2b6bf548
DTSTAMP:20260423T092820Z
DESCRIPTION:
DTSTART;TZID=America/New_York:20220217T000000
DTEND;TZID=America/New_York:20220219T235900
LOCATION:
SUMMARY:OEFFA 2022 Annual Conference
END:VEVENT
END:VCALENDAR
