BEGIN:VCALENDAR
VERSION:2.0
PRODID:-//lickingswcd.com//NONSGML kigkonsult.se iCalcreator 2.30.10//
CALSCALE:GREGORIAN
METHOD:PUBLISH
UID:2ab824b7-3453-4b9e-9499-958f548ba755
X-WR-CALDESC:
X-WR-RELCALID:804403af2857ab1784e0e31e4d033e15
X-WR-TIMEZONE:America/New_York
BEGIN:VTIMEZONE
TZID:America/New_York
BEGIN:STANDARD
TZNAME:EST
DTSTART:20211107T020000
TZOFFSETFROM:-0400
TZOFFSETTO:-0500
RDATE:20221106T020000
END:STANDARD
BEGIN:DAYLIGHT
TZNAME:EDT
DTSTART:20210314T020000
TZOFFSETFROM:-0500
TZOFFSETTO:-0400
RDATE:20220313T020000
RDATE:20230312T020000
END:DAYLIGHT
END:VTIMEZONE
BEGIN:VEVENT
UID:f4de04ca-ac53-433c-bfbe-37943405df84
DTSTAMP:20260421T084424Z
DESCRIPTION:
DTSTART;TZID=America/New_York:20220227T000000
DTEND;TZID=America/New_York:20220301T235900
LOCATION:
SUMMARY:Ohio Federation of SWCD Annual Partnership Meeting
END:VEVENT
END:VCALENDAR
