BEGIN:VCALENDAR
VERSION:2.0
PRODID:-//lickingswcd.com//NONSGML kigkonsult.se iCalcreator 2.30.10//
CALSCALE:GREGORIAN
METHOD:PUBLISH
UID:88033119-a6a2-428b-a571-0c8a6855c73e
X-WR-CALDESC:
X-WR-RELCALID:42347408a33551b44b2257239b3d6f9d
X-WR-TIMEZONE:America/New_York
BEGIN:VTIMEZONE
TZID:America/New_York
BEGIN:STANDARD
TZNAME:EST
DTSTART:20211107T020000
TZOFFSETFROM:-0400
TZOFFSETTO:-0500
RDATE:20221106T020000
END:STANDARD
BEGIN:DAYLIGHT
TZNAME:EDT
DTSTART:20210314T020000
TZOFFSETFROM:-0500
TZOFFSETTO:-0400
RDATE:20220313T020000
RDATE:20230312T020000
END:DAYLIGHT
END:VTIMEZONE
BEGIN:VEVENT
UID:67d00edb-46cf-41d5-bc82-a2ed26c85483
DTSTAMP:20260421T084400Z
DESCRIPTION:
DTSTART;TZID=America/New_York:20220301T000000
DTEND;TZID=America/New_York:20220301T235900
LOCATION:
SUMMARY:Start of Women's History Month
END:VEVENT
END:VCALENDAR
