BEGIN:VCALENDAR
VERSION:2.0
PRODID:-//lickingswcd.com//NONSGML kigkonsult.se iCalcreator 2.30.10//
CALSCALE:GREGORIAN
METHOD:PUBLISH
UID:d8eb2eba-7973-4e93-a169-5b2894927b51
X-WR-CALDESC:
X-WR-RELCALID:f4d7974e3f313317600d25ef4bd6e154
X-WR-TIMEZONE:America/New_York
BEGIN:VTIMEZONE
TZID:America/New_York
BEGIN:STANDARD
TZNAME:EST
DTSTART:20211107T020000
TZOFFSETFROM:-0400
TZOFFSETTO:-0500
RDATE:20221106T020000
END:STANDARD
BEGIN:DAYLIGHT
TZNAME:EDT
DTSTART:20220313T020000
TZOFFSETFROM:-0500
TZOFFSETTO:-0400
RDATE:20230312T020000
END:DAYLIGHT
END:VTIMEZONE
BEGIN:VEVENT
UID:156cd2a7-7efd-4c69-b928-9dfe16b710ed
DTSTAMP:20260421T122418Z
DESCRIPTION:
DTSTART;TZID=America/New_York:20220316T100000
DTEND;TZID=America/New_York:20220316T120000
LOCATION:
SUMMARY:OCVN Class
END:VEVENT
END:VCALENDAR
