BEGIN:VCALENDAR
VERSION:2.0
PRODID:-//lickingswcd.com//NONSGML kigkonsult.se iCalcreator 2.30.10//
CALSCALE:GREGORIAN
METHOD:PUBLISH
UID:c5a5fe85-a3a6-4187-85ff-8795c44d59b8
X-WR-CALDESC:
X-WR-RELCALID:082a3374b392ce3a6fed1ec8cabd4575
X-WR-TIMEZONE:America/New_York
BEGIN:VTIMEZONE
TZID:America/New_York
BEGIN:STANDARD
TZNAME:EST
DTSTART:20211107T020000
TZOFFSETFROM:-0400
TZOFFSETTO:-0500
RDATE:20221106T020000
END:STANDARD
BEGIN:DAYLIGHT
TZNAME:EDT
DTSTART:20220313T020000
TZOFFSETFROM:-0500
TZOFFSETTO:-0400
RDATE:20230312T020000
END:DAYLIGHT
END:VTIMEZONE
BEGIN:VEVENT
UID:6334407f-6c22-4e2d-8666-47aa929499b0
DTSTAMP:20260421T081932Z
DESCRIPTION:
DTSTART;TZID=America/New_York:20220318T070000
DTEND;TZID=America/New_York:20220318T090000
LOCATION:
SUMMARY:Agricultural Hall of Fame Induction Ceremony
END:VEVENT
END:VCALENDAR
