BEGIN:VCALENDAR
VERSION:2.0
PRODID:-//lickingswcd.com//NONSGML kigkonsult.se iCalcreator 2.30.10//
CALSCALE:GREGORIAN
METHOD:PUBLISH
UID:71cbc3cc-1072-4ff0-aa19-b5da186d5eb2
X-WR-CALDESC:Locally-led conservation is based on the principle that local 
 people make the best decisions for their own communities. \nAnnually the U
 SDA Natural Resources Conservation Service (NRCS) and the Licking County S
 oil & Water Conservation District gathers landowners to discuss local cons
 ervation practices\, needs and updates to the Stormwater Management Plan. 
  The Farm Bureau is joining the conversation to determine policy needs fro
 m their Licking County members. \n \nANNUAL LOCAL WORK GROUP MEETING & FB 
 POLICY DEVELOPMENT\nfor Licking County NRCS\, Soil & Water and Farm Bureau
 \nThursday March 24th\nFree breakfast at 7 am  ~ Discussion begins at 7:30
  am\nAt Ag Services Center\, 771 East Main Street\, Newark\, OH  43055\n\n
 Thanks to Farm Bureau and Soil & Water\, breakfast is free for those who a
 ttend!\n\nThe purpose of the LWG is to provide guidance to your NRCS and S
 oil & Water field offices concerning the implementation and delivery of co
 nservation programs.  You are part of a diverse group invited to discuss t
 opics such as:\n•	Conditions of the natural resources in Licking County\n•	T
 he local application process for NRCS programs\, including ranking criteri
 a and application periods\n•	H2Ohio eligible conservation practices\n•	The n
 eed for new\, innovative conservation practices\n•	How NRCS and Soil & Wate
 r can partner to best serve the people of Licking County\n\nIn addition to
  these topics\, Farm Bureau works on a diverse list of issues including tr
 ade\, ag education\, infrastructure\, commodities and crop insurance. Farm
  Bureau believes that the best policies start at the grassroots level from
  people who live it everyday.\n\nPlease RSVP to BritneyStuller@LickingSWCD
 .com or call 740-670-5330 by Monday\, March 21st.  \n\nIf you are unable t
 o attend consider sending a representative in your place or sharing writte
 n comments in advance.   \n\n
X-WR-RELCALID:979eba9309810511269cff45592a9b97
X-WR-TIMEZONE:America/New_York
BEGIN:VTIMEZONE
TZID:America/New_York
BEGIN:STANDARD
TZNAME:EST
DTSTART:20211107T020000
TZOFFSETFROM:-0400
TZOFFSETTO:-0500
RDATE:20221106T020000
END:STANDARD
BEGIN:DAYLIGHT
TZNAME:EDT
DTSTART:20220313T020000
TZOFFSETFROM:-0500
TZOFFSETTO:-0400
RDATE:20230312T020000
END:DAYLIGHT
END:VTIMEZONE
BEGIN:VEVENT
UID:b2ac5a6f-1ade-4bfd-bac3-1cfef3fa26c2
DTSTAMP:20260421T083853Z
DESCRIPTION:Locally-led conservation is based on the principle that local p
 eople make the best decisions for their own communities. \nAnnually the US
 DA Natural Resources Conservation Service (NRCS) and the Licking County So
 il & Water Conservation District gathers landowners to discuss local conse
 rvation practices\, needs and updates to the Stormwater Management Plan.  
 The Farm Bureau is joining the conversation to determine policy needs from
  their Licking County members. \n \nANNUAL LOCAL WORK GROUP MEETING & FB P
 OLICY DEVELOPMENT\nfor Licking County NRCS\, Soil & Water and Farm Bureau
 \nThursday March 24th\nFree breakfast at 7 am  ~ Discussion begins at 7:30
  am\nAt Ag Services Center\, 771 East Main Street\, Newark\, OH  43055\n\n
 Thanks to Farm Bureau and Soil & Water\, breakfast is free for those who a
 ttend!\n\nThe purpose of the LWG is to provide guidance to your NRCS and S
 oil & Water field offices concerning the implementation and delivery of co
 nservation programs.  You are part of a diverse group invited to discuss t
 opics such as:\n•	Conditions of the natural resources in Licking County\n•	T
 he local application process for NRCS programs\, including ranking criteri
 a and application periods\n•	H2Ohio eligible conservation practices\n•	The n
 eed for new\, innovative conservation practices\n•	How NRCS and Soil & Wate
 r can partner to best serve the people of Licking County\n\nIn addition to
  these topics\, Farm Bureau works on a diverse list of issues including tr
 ade\, ag education\, infrastructure\, commodities and crop insurance. Farm
  Bureau believes that the best policies start at the grassroots level from
  people who live it everyday.\n\nPlease RSVP to BritneyStuller@LickingSWCD
 .com or call 740-670-5330 by Monday\, March 21st.  \n\nIf you are unable t
 o attend consider sending a representative in your place or sharing writte
 n comments in advance.   \n\n
DTSTART;TZID=America/New_York:20220324T070000
DTEND;TZID=America/New_York:20220324T090000
LOCATION:Soil & Water office
SUMMARY:Local Work Group /Policy Meeting
END:VEVENT
END:VCALENDAR
