BEGIN:VCALENDAR
VERSION:2.0
PRODID:-//lickingswcd.com//NONSGML kigkonsult.se iCalcreator 2.30.10//
CALSCALE:GREGORIAN
METHOD:PUBLISH
UID:1abfd845-3529-4bca-920d-225ab65508e7
X-WR-CALDESC:\nThe Bug Mobile is a mobile zoo of insects\, like the desert 
 millipede\, the Australian walking stick\, and the Madagascar hissing roac
 h. There's a lot to see and learn on the bug mobile.
X-WR-RELCALID:7bd66a2a4af57c0336223e6e248f5f14
X-WR-TIMEZONE:America/New_York
BEGIN:VTIMEZONE
TZID:America/New_York
BEGIN:STANDARD
TZNAME:EST
DTSTART:20221106T020000
TZOFFSETFROM:-0400
TZOFFSETTO:-0500
RDATE:20231105T020000
RDATE:20241103T020000
END:STANDARD
BEGIN:DAYLIGHT
TZNAME:EDT
DTSTART:20230312T020000
TZOFFSETFROM:-0500
TZOFFSETTO:-0400
RDATE:20240310T020000
END:DAYLIGHT
END:VTIMEZONE
BEGIN:VEVENT
UID:89a73475-9525-4c82-b7ff-4fd3a7dcfa79
DTSTAMP:20260420T045942Z
DESCRIPTION:\nThe Bug Mobile is a mobile zoo of insects\, like the desert m
 illipede\, the Australian walking stick\, and the Madagascar hissing roach
 . There's a lot to see and learn on the bug mobile.
DTSTART;TZID=America/New_York:20230806T110000
DTEND;TZID=America/New_York:20230806T150000
LOCATION:14028 Fairgrounds Rd\, Hartford\, OH 43013
SUMMARY:HFNRA- Bug Mobile
END:VEVENT
END:VCALENDAR
