BEGIN:VCALENDAR
VERSION:2.0
PRODID:-//lickingswcd.com//NONSGML kigkonsult.se iCalcreator 2.30.10//
CALSCALE:GREGORIAN
METHOD:PUBLISH
UID:797440e5-8599-47c3-9bff-70288ed86a5b
X-WR-CALDESC:FFA teams from school districts around the county come togethe
 r for a fun and friendly competition. Teams compete in four different comp
 etitions: quiz bowl test\, canoe tug-of-war\, recycled boat float\, and a 
 canoe relay race. Points are awarded based on place in each event. The tea
 m with the highest points overall will receive a prize!\n
X-WR-RELCALID:76d91125e7841c84b14416c7f87945c3
X-WR-TIMEZONE:America/New_York
BEGIN:VTIMEZONE
TZID:America/New_York
BEGIN:STANDARD
TZNAME:EST
DTSTART:20221106T020000
TZOFFSETFROM:-0400
TZOFFSETTO:-0500
RDATE:20231105T020000
RDATE:20241103T020000
END:STANDARD
BEGIN:DAYLIGHT
TZNAME:EDT
DTSTART:20230312T020000
TZOFFSETFROM:-0500
TZOFFSETTO:-0400
RDATE:20240310T020000
END:DAYLIGHT
END:VTIMEZONE
BEGIN:VEVENT
UID:b12ee799-0550-41e0-86dd-296158f2b00f
DTSTAMP:20260420T045417Z
DESCRIPTION:FFA teams from school districts around the county come together
  for a fun and friendly competition. Teams compete in four different compe
 titions: quiz bowl test\, canoe tug-of-war\, recycled boat float\, and a c
 anoe relay race. Points are awarded based on place in each event. The team
  with the highest points overall will receive a prize!\n
DTSTART;TZID=America/New_York:20230811T150000
DTEND;TZID=America/New_York:20230811T160000
LOCATION:14028 Fairgrounds Rd\, Hartford\, OH 43013
SUMMARY:HFNRA- FFA Challenge
END:VEVENT
END:VCALENDAR
