BEGIN:VCALENDAR
VERSION:2.0
PRODID:-//lickingswcd.com//NONSGML kigkonsult.se iCalcreator 2.30.10//
CALSCALE:GREGORIAN
METHOD:PUBLISH
UID:a5e64e57-68f8-418a-9c08-69474b492126
X-WR-CALDESC:\nPut your knowledge to the test! The Skill-a-Thon covers Ohio
  wildlife\, trees\, soil and water\, fish\, flowers\, and more!\nThree Age
  Classes – Junior\, Intermediate\, and Senior\nWinners from each age class
  will receive an award!
X-WR-RELCALID:d2e0728cdea886ba43fdfb7f9040d402
X-WR-TIMEZONE:America/New_York
BEGIN:VTIMEZONE
TZID:America/New_York
BEGIN:STANDARD
TZNAME:EST
DTSTART:20221106T020000
TZOFFSETFROM:-0400
TZOFFSETTO:-0500
RDATE:20231105T020000
RDATE:20241103T020000
END:STANDARD
BEGIN:DAYLIGHT
TZNAME:EDT
DTSTART:20230312T020000
TZOFFSETFROM:-0500
TZOFFSETTO:-0400
RDATE:20240310T020000
END:DAYLIGHT
END:VTIMEZONE
BEGIN:VEVENT
UID:e1fd1774-92a8-4cad-8574-18e177b5ed4c
DTSTAMP:20260420T045552Z
DESCRIPTION:\nPut your knowledge to the test! The Skill-a-Thon covers Ohio 
 wildlife\, trees\, soil and water\, fish\, flowers\, and more!\nThree Age 
 Classes – Junior\, Intermediate\, and Senior\nWinners from each age class 
 will receive an award!
DTSTART;TZID=America/New_York:20230811T110000
DTEND;TZID=America/New_York:20230811T140000
LOCATION:14028 Fairgrounds Rd\, Hartford\, OH 43013
SUMMARY:HFNRA- Skill-a-thon
END:VEVENT
END:VCALENDAR
