BEGIN:VCALENDAR
VERSION:2.0
PRODID:-//lickingswcd.com//NONSGML kigkonsult.se iCalcreator 2.30.10//
CALSCALE:GREGORIAN
METHOD:PUBLISH
UID:35d283e8-9d43-4d28-8543-3d76d8deff25
X-WR-CALDESC:11:00am-2:00pm: Natural Resources Skill-a-thon- any age can te
 st your skills for prizes!\n3:00pm: FFA Challenge- Teams Compete on land a
 nd water for bragging rights!
X-WR-RELCALID:13bcfbbdabf87bd3e7ccc750058083f2
X-WR-TIMEZONE:America/New_York
BEGIN:VTIMEZONE
TZID:America/New_York
BEGIN:STANDARD
TZNAME:EST
DTSTART:20231105T020000
TZOFFSETFROM:-0400
TZOFFSETTO:-0500
RDATE:20241103T020000
RDATE:20251102T020000
END:STANDARD
BEGIN:DAYLIGHT
TZNAME:EDT
DTSTART:20240310T020000
TZOFFSETFROM:-0500
TZOFFSETTO:-0400
RDATE:20250309T020000
END:DAYLIGHT
END:VTIMEZONE
BEGIN:VEVENT
UID:d898053c-a0f1-4daa-b6c2-11c77b8297f8
DTSTAMP:20260420T045536Z
DESCRIPTION:11:00am-2:00pm: Natural Resources Skill-a-thon- any age can tes
 t your skills for prizes!\n3:00pm: FFA Challenge- Teams Compete on land an
 d water for bragging rights!
DTSTART;TZID=America/New_York:20240809T110000
DTEND;TZID=America/New_York:20240809T160000
LOCATION:Hartford Fair Natural Resource Area\, 14028 Fairgrounds Road\, Cro
 ton\, OH 43013 US
SUMMARY:Outdoor Challenge Finale at HFNRA
END:VEVENT
END:VCALENDAR
