BEGIN:VCALENDAR
VERSION:2.0
PRODID:-//lickingswcd.com//NONSGML kigkonsult.se iCalcreator 2.30.10//
CALSCALE:GREGORIAN
METHOD:PUBLISH
UID:d1cbb1f9-d552-4fde-9543-e20315547483
X-WR-CALDESC:
X-WR-RELCALID:0c4237de662087590d9d56b8a2c60e48
X-WR-TIMEZONE:America/New_York
BEGIN:VTIMEZONE
TZID:America/New_York
BEGIN:STANDARD
TZNAME:EST
DTSTART:20241103T020000
TZOFFSETFROM:-0400
TZOFFSETTO:-0500
RDATE:20251102T020000
RDATE:20261101T020000
END:STANDARD
BEGIN:DAYLIGHT
TZNAME:EDT
DTSTART:20250309T020000
TZOFFSETFROM:-0500
TZOFFSETTO:-0400
RDATE:20260308T020000
END:DAYLIGHT
END:VTIMEZONE
BEGIN:VEVENT
UID:8eba5c3d-eed8-41db-984c-b745f99938b5
DTSTAMP:20260420T052331Z
DESCRIPTION:
DTSTART;TZID=America/New_York:20250803T060000
DTEND;TZID=America/New_York:20250809T060001
LOCATION:14028 Fairgrounds Rd\, croton\, OH 43013 US
SUMMARY:Hartford Fair
END:VEVENT
END:VCALENDAR
