BEGIN:VCALENDAR
VERSION:2.0
PRODID:-//lickingswcd.com//NONSGML kigkonsult.se iCalcreator 2.30.10//
CALSCALE:GREGORIAN
METHOD:PUBLISH
UID:4937d6d5-ba2a-4dca-b9c7-bb519e397a53
X-WR-CALDESC:
X-WR-RELCALID:3981401be799e4e077d9f30335cbc0ff
X-WR-TIMEZONE:America/New_York
BEGIN:VTIMEZONE
TZID:America/New_York
BEGIN:STANDARD
TZNAME:EST
DTSTART:20241103T020000
TZOFFSETFROM:-0400
TZOFFSETTO:-0500
RDATE:20251102T020000
RDATE:20261101T020000
END:STANDARD
BEGIN:DAYLIGHT
TZNAME:EDT
DTSTART:20250309T020000
TZOFFSETFROM:-0500
TZOFFSETTO:-0400
RDATE:20260308T020000
RDATE:20270314T020000
END:DAYLIGHT
END:VTIMEZONE
BEGIN:VEVENT
UID:b23f28ec-a1f2-413e-99d1-dce4e099b882
DTSTAMP:20260420T020907Z
DESCRIPTION:
DTSTART;TZID=America/New_York:20251001T060000
DTEND;TZID=America/New_York:20251007T060001
LOCATION:
SUMMARY:Stormwater Awareness Week
END:VEVENT
END:VCALENDAR
