BEGIN:VCALENDAR
VERSION:2.0
PRODID:-//lickingswcd.com//NONSGML kigkonsult.se iCalcreator 2.30.10//
CALSCALE:GREGORIAN
METHOD:PUBLISH
UID:e5c67e95-5b95-4055-bee5-38ec472744e0
X-WR-CALDESC:
X-WR-RELCALID:f76ddf7de439b6961cccf67e28f92c5a
X-WR-TIMEZONE:America/New_York
BEGIN:VTIMEZONE
TZID:America/New_York
BEGIN:STANDARD
TZNAME:EST
DTSTART:20241103T020000
TZOFFSETFROM:-0400
TZOFFSETTO:-0500
RDATE:20251102T020000
RDATE:20261101T020000
END:STANDARD
BEGIN:DAYLIGHT
TZNAME:EDT
DTSTART:20250309T020000
TZOFFSETFROM:-0500
TZOFFSETTO:-0400
RDATE:20260308T020000
RDATE:20270314T020000
END:DAYLIGHT
END:VTIMEZONE
BEGIN:VEVENT
UID:2f021d09-c092-40f8-80b0-0a8188e27294
DTSTAMP:20260420T014050Z
DESCRIPTION:
DTSTART;TZID=America/New_York:20251001T060000
DTEND;TZID=America/New_York:20251001T060001
LOCATION:771 East Main St.\, Newark\, OH 43055 US
SUMMARY:Board of Supervisors Election- Start
END:VEVENT
END:VCALENDAR
