BEGIN:VCALENDAR
VERSION:2.0
PRODID:-//lickingswcd.com//NONSGML kigkonsult.se iCalcreator 2.30.10//
CALSCALE:GREGORIAN
METHOD:PUBLISH
UID:50b98ca4-6718-42f7-923a-af566eeb4d53
X-WR-CALDESC:
X-WR-RELCALID:76fc21fb729cdf8f84999b3bb1616598
X-WR-TIMEZONE:America/New_York
BEGIN:VTIMEZONE
TZID:America/New_York
BEGIN:STANDARD
TZNAME:EST
DTSTART:20241103T020000
TZOFFSETFROM:-0400
TZOFFSETTO:-0500
RDATE:20251102T020000
RDATE:20261101T020000
END:STANDARD
BEGIN:DAYLIGHT
TZNAME:EDT
DTSTART:20250309T020000
TZOFFSETFROM:-0500
TZOFFSETTO:-0400
RDATE:20260308T020000
RDATE:20270314T020000
END:DAYLIGHT
END:VTIMEZONE
BEGIN:VEVENT
UID:b17a581e-9b51-49d8-9b00-a262d2c04d80
DTSTAMP:20260420T015422Z
DESCRIPTION:
DTSTART;TZID=America/New_York:20251001T060000
DTEND;TZID=America/New_York:20251001T060001
LOCATION:
SUMMARY:Energy Efficiency Day
END:VEVENT
END:VCALENDAR
