BEGIN:VCALENDAR
VERSION:2.0
PRODID:-//lickingswcd.com//NONSGML kigkonsult.se iCalcreator 2.30.10//
CALSCALE:GREGORIAN
METHOD:PUBLISH
UID:616ca9f1-d27a-42b5-959d-40b482c0a14f
X-WR-CALDESC:Visit https://www.canalmarketdistrict.org for more information
  on the event!
X-WR-RELCALID:1b315078a7c29b576bf18347188b8bdf
X-WR-TIMEZONE:America/New_York
BEGIN:VTIMEZONE
TZID:America/New_York
BEGIN:STANDARD
TZNAME:EST
DTSTART:20241103T020000
TZOFFSETFROM:-0400
TZOFFSETTO:-0500
RDATE:20251102T020000
RDATE:20261101T020000
END:STANDARD
BEGIN:DAYLIGHT
TZNAME:EDT
DTSTART:20250309T020000
TZOFFSETFROM:-0500
TZOFFSETTO:-0400
RDATE:20260308T020000
RDATE:20270314T020000
END:DAYLIGHT
END:VTIMEZONE
BEGIN:VEVENT
UID:98029f75-9b88-40d2-a8f6-fc6f2cef921a
DTSTAMP:20260420T015459Z
DESCRIPTION:Visit https://www.canalmarketdistrict.org for more information 
 on the event!
DTSTART;TZID=America/New_York:20251003T153000
DTEND;TZID=America/New_York:20251003T193000
LOCATION:36 E Canal St.\, Newark\, OH 43055 US
SUMMARY:Canal Market- Stormwater Awareness Booth
END:VEVENT
END:VCALENDAR
