BEGIN:VCALENDAR
VERSION:2.0
PRODID:-//lickingswcd.com//NONSGML kigkonsult.se iCalcreator 2.30.10//
CALSCALE:GREGORIAN
METHOD:PUBLISH
UID:68ebc78e-1417-4033-b8db-e3f734627798
X-WR-CALDESC:Visit https://www.granvillefarmersmarket.com for more informat
 ion!
X-WR-RELCALID:8be7c99397db58eb875499ce85de7bd3
X-WR-TIMEZONE:America/New_York
BEGIN:VTIMEZONE
TZID:America/New_York
BEGIN:STANDARD
TZNAME:EST
DTSTART:20241103T020000
TZOFFSETFROM:-0400
TZOFFSETTO:-0500
RDATE:20251102T020000
RDATE:20261101T020000
END:STANDARD
BEGIN:DAYLIGHT
TZNAME:EDT
DTSTART:20250309T020000
TZOFFSETFROM:-0500
TZOFFSETTO:-0400
RDATE:20260308T020000
RDATE:20270314T020000
END:DAYLIGHT
END:VTIMEZONE
BEGIN:VEVENT
UID:b7408199-a73c-47bc-9bf5-ee4973b11003
DTSTAMP:20260420T014748Z
DESCRIPTION:Visit https://www.granvillefarmersmarket.com for more informati
 on!
DTSTART;TZID=America/New_York:20251004T083000
DTEND;TZID=America/New_York:20251004T230000
LOCATION:1225 River Rd \, Granville\, OH 43023 US
SUMMARY:Granville Farmer's Market- Stormwater Awareness Week
END:VEVENT
END:VCALENDAR
