BEGIN:VCALENDAR
VERSION:2.0
PRODID:-//lickingswcd.com//NONSGML kigkonsult.se iCalcreator 2.30.10//
CALSCALE:GREGORIAN
METHOD:PUBLISH
UID:3657dac0-3065-428c-960f-7b68d78884da
X-WR-CALDESC:Visit https://secure.rec1.com/OH/licking-park-district-oh/cata
 log?filter=c2VhcmNoPTM4NTI3MjQ= for more information on the event!
X-WR-RELCALID:790ca42886e1422e9071315521903e38
X-WR-TIMEZONE:America/New_York
BEGIN:VTIMEZONE
TZID:America/New_York
BEGIN:STANDARD
TZNAME:EST
DTSTART:20241103T020000
TZOFFSETFROM:-0400
TZOFFSETTO:-0500
RDATE:20251102T020000
RDATE:20261101T020000
END:STANDARD
BEGIN:DAYLIGHT
TZNAME:EDT
DTSTART:20250309T020000
TZOFFSETFROM:-0500
TZOFFSETTO:-0400
RDATE:20260308T020000
RDATE:20270314T020000
END:DAYLIGHT
END:VTIMEZONE
BEGIN:VEVENT
UID:23dfc3a9-7083-4fa5-8d23-97bbd0f5f08d
DTSTAMP:20260420T015327Z
DESCRIPTION:Visit https://secure.rec1.com/OH/licking-park-district-oh/catal
 og?filter=c2VhcmNoPTM4NTI3MjQ= for more information on the event!
DTSTART;TZID=America/New_York:20251004T120000
DTEND;TZID=America/New_York:20251004T170000
LOCATION:4351 Lancaster Road\, Granville\, OH 43023 US
SUMMARY:Harvest Moon Festival
END:VEVENT
END:VCALENDAR
