BEGIN:VCALENDAR
VERSION:2.0
PRODID:-//lickingswcd.com//NONSGML kigkonsult.se iCalcreator 2.30.10//
CALSCALE:GREGORIAN
METHOD:PUBLISH
UID:92ac7f47-9161-4663-8670-06e1763c1895
X-WR-CALDESC:
X-WR-RELCALID:3e9afaf800fc57e21dc865fe214fc90b
X-WR-TIMEZONE:America/New_York
BEGIN:VTIMEZONE
TZID:America/New_York
BEGIN:STANDARD
TZNAME:EST
DTSTART:20241103T020000
TZOFFSETFROM:-0400
TZOFFSETTO:-0500
RDATE:20251102T020000
RDATE:20261101T020000
END:STANDARD
BEGIN:DAYLIGHT
TZNAME:EDT
DTSTART:20250309T020000
TZOFFSETFROM:-0500
TZOFFSETTO:-0400
RDATE:20260308T020000
RDATE:20270314T020000
END:DAYLIGHT
END:VTIMEZONE
BEGIN:VEVENT
UID:65319ef8-fe84-422c-85e7-235f5c33f5ec
DTSTAMP:20260420T020825Z
DESCRIPTION:
DTSTART;TZID=America/New_York:20251004T060000
DTEND;TZID=America/New_York:20251004T060001
LOCATION:
SUMMARY:World Habitat Day
END:VEVENT
END:VCALENDAR
