BEGIN:VCALENDAR
VERSION:2.0
PRODID:-//lickingswcd.com//NONSGML kigkonsult.se iCalcreator 2.30.10//
CALSCALE:GREGORIAN
METHOD:PUBLISH
UID:0776874b-eb0d-4e38-be31-973cfce1587d
X-WR-CALDESC:
X-WR-RELCALID:231de602af6e43b1be1e49047257bbbf
X-WR-TIMEZONE:America/New_York
BEGIN:VTIMEZONE
TZID:America/New_York
BEGIN:STANDARD
TZNAME:EST
DTSTART:20241103T020000
TZOFFSETFROM:-0400
TZOFFSETTO:-0500
RDATE:20251102T020000
RDATE:20261101T020000
END:STANDARD
BEGIN:DAYLIGHT
TZNAME:EDT
DTSTART:20250309T020000
TZOFFSETFROM:-0500
TZOFFSETTO:-0400
RDATE:20260308T020000
RDATE:20270314T020000
END:DAYLIGHT
END:VTIMEZONE
BEGIN:VEVENT
UID:1701ecc8-3c70-48e4-ba78-7471043c5b24
DTSTAMP:20260420T014132Z
DESCRIPTION:
DTSTART;TZID=America/New_York:20251024T060000
DTEND;TZID=America/New_York:20251024T060001
LOCATION:
SUMMARY:International Day of Climate Action
END:VEVENT
END:VCALENDAR
