BEGIN:VCALENDAR
VERSION:2.0
PRODID:-//lickingswcd.com//NONSGML kigkonsult.se iCalcreator 2.30.10//
CALSCALE:GREGORIAN
METHOD:PUBLISH
UID:70ab07c9-a0f8-44e1-be1a-854bddff8e86
X-WR-CALDESC:
X-WR-RELCALID:a0bdcf99904dba36bce593c2762c6072
X-WR-TIMEZONE:America/New_York
BEGIN:VTIMEZONE
TZID:America/New_York
BEGIN:STANDARD
TZNAME:EST
DTSTART:20241103T020000
TZOFFSETFROM:-0400
TZOFFSETTO:-0500
RDATE:20251102T020000
RDATE:20261101T020000
END:STANDARD
BEGIN:DAYLIGHT
TZNAME:EDT
DTSTART:20250309T020000
TZOFFSETFROM:-0500
TZOFFSETTO:-0400
RDATE:20260308T020000
RDATE:20270314T020000
END:DAYLIGHT
END:VTIMEZONE
BEGIN:VEVENT
UID:e2b69267-7a4e-4277-aefd-f8620e5a9d3b
DTSTAMP:20260420T020528Z
DESCRIPTION:
DTSTART;TZID=America/New_York:20251031T060000
DTEND;TZID=America/New_York:20251031T060001
LOCATION:771 East Main St.\, Newark\, OH 43055 US
SUMMARY:Board of Supervisors Election- End
END:VEVENT
END:VCALENDAR
