BEGIN:VCALENDAR
VERSION:2.0
PRODID:-//lickingswcd.com//NONSGML kigkonsult.se iCalcreator 2.30.10//
CALSCALE:GREGORIAN
METHOD:PUBLISH
UID:f8e78d3e-7f7a-4119-bc53-b521c699130e
X-WR-CALDESC:
X-WR-RELCALID:6fa469fbfdc963c5a36392808b56a2ad
X-WR-TIMEZONE:America/New_York
BEGIN:VTIMEZONE
TZID:America/New_York
BEGIN:STANDARD
TZNAME:EST
DTSTART:20251102T020000
TZOFFSETFROM:-0400
TZOFFSETTO:-0500
RDATE:20261101T020000
END:STANDARD
BEGIN:DAYLIGHT
TZNAME:EDT
DTSTART:20250309T020000
TZOFFSETFROM:-0500
TZOFFSETTO:-0400
RDATE:20260308T020000
RDATE:20270314T020000
END:DAYLIGHT
END:VTIMEZONE
BEGIN:VEVENT
UID:e9b0a977-a2ee-4df7-83ad-ad9010b4dcde
DTSTAMP:20260419T235749Z
DESCRIPTION:
DTSTART;TZID=America/New_York:20251104T060000
DTEND;TZID=America/New_York:20251104T060001
LOCATION:
SUMMARY:Board Election Day
END:VEVENT
END:VCALENDAR
