BEGIN:VCALENDAR
VERSION:2.0
PRODID:-//lickingswcd.com//NONSGML kigkonsult.se iCalcreator 2.30.10//
CALSCALE:GREGORIAN
METHOD:PUBLISH
UID:6f055fa9-1f55-452c-9eba-365539f02aaf
X-WR-CALDESC:
X-WR-RELCALID:d59e690effe2db67890df3e56c99be8c
X-WR-TIMEZONE:America/New_York
BEGIN:VTIMEZONE
TZID:America/New_York
BEGIN:STANDARD
TZNAME:EST
DTSTART:20251102T020000
TZOFFSETFROM:-0400
TZOFFSETTO:-0500
RDATE:20261101T020000
END:STANDARD
BEGIN:DAYLIGHT
TZNAME:EDT
DTSTART:20250309T020000
TZOFFSETFROM:-0500
TZOFFSETTO:-0400
RDATE:20260308T020000
RDATE:20270314T020000
END:DAYLIGHT
END:VTIMEZONE
BEGIN:VEVENT
UID:c15cfe76-1fac-4b3d-9fed-e673d343ac7c
DTSTAMP:20260420T000420Z
DESCRIPTION:
DTSTART;TZID=America/New_York:20251105T060000
DTEND;TZID=America/New_York:20251105T060001
LOCATION:
SUMMARY:Energy Efficiency Day
END:VEVENT
END:VCALENDAR
