BEGIN:VCALENDAR
VERSION:2.0
PRODID:-//lickingswcd.com//NONSGML kigkonsult.se iCalcreator 2.30.10//
CALSCALE:GREGORIAN
METHOD:PUBLISH
UID:0a3d6cbf-3bee-4546-a51e-30f4e7c8f4e0
X-WR-CALDESC:Visit the Ohio Department of Natural Resources website for mor
 e information on the program!\n\nhttps://ohiodnr.gov/discover-and-learn/sa
 fety-conservation/about-ODNR/news/support-monarch-butterflies-by-gathering
 -milkweed-seeds#:~:text=For%20those%20with%20an%20abundance%20of%20milkwee
 d%2C%20the\,to%20ohiopollinator.org%20to%20find%20a%20nearby%20drop-off%20
 site.
X-WR-RELCALID:a42b74f44749eb3bee22dadff3b6a928
X-WR-TIMEZONE:America/New_York
BEGIN:VTIMEZONE
TZID:America/New_York
BEGIN:STANDARD
TZNAME:EST
DTSTART:20251102T020000
TZOFFSETFROM:-0400
TZOFFSETTO:-0500
RDATE:20261101T020000
END:STANDARD
BEGIN:DAYLIGHT
TZNAME:EDT
DTSTART:20250309T020000
TZOFFSETFROM:-0500
TZOFFSETTO:-0400
RDATE:20260308T020000
RDATE:20270314T020000
END:DAYLIGHT
END:VTIMEZONE
BEGIN:VEVENT
UID:651c896c-ef24-422f-b6e4-e70b5234c4e3
DTSTAMP:20260420T000135Z
DESCRIPTION:Visit the Ohio Department of Natural Resources website for more
  information on the program!\n\nhttps://ohiodnr.gov/discover-and-learn/saf
 ety-conservation/about-ODNR/news/support-monarch-butterflies-by-gathering-
 milkweed-seeds#:~:text=For%20those%20with%20an%20abundance%20of%20milkweed
 %2C%20the\,to%20ohiopollinator.org%20to%20find%20a%20nearby%20drop-off%20s
 ite.
DTSTART;TZID=America/New_York:20251107T060000
DTEND;TZID=America/New_York:20251107T060001
LOCATION:771 East Main St.\, Newark\, AL 43055 US
SUMMARY:Milkweed Seed Pod Collection Ends
END:VEVENT
END:VCALENDAR
