BEGIN:VCALENDAR
VERSION:2.0
PRODID:-//lickingswcd.com//NONSGML kigkonsult.se iCalcreator 2.30.10//
CALSCALE:GREGORIAN
METHOD:PUBLISH
UID:4923cb50-99be-40b5-a11e-e0c59c04bd25
X-WR-CALDESC:
X-WR-RELCALID:f4bc4922c24523c2f7cbe1dd33d11f30
X-WR-TIMEZONE:America/New_York
BEGIN:VTIMEZONE
TZID:America/New_York
BEGIN:STANDARD
TZNAME:EST
DTSTART:20251102T020000
TZOFFSETFROM:-0400
TZOFFSETTO:-0500
RDATE:20261101T020000
END:STANDARD
BEGIN:DAYLIGHT
TZNAME:EDT
DTSTART:20250309T020000
TZOFFSETFROM:-0500
TZOFFSETTO:-0400
RDATE:20260308T020000
RDATE:20270314T020000
END:DAYLIGHT
END:VTIMEZONE
BEGIN:VEVENT
UID:bf434e73-25d6-493f-938c-5a7f17e082ce
DTSTAMP:20260419T234724Z
DESCRIPTION:
DTSTART;TZID=America/New_York:20251109T060000
DTEND;TZID=America/New_York:20251115T060001
LOCATION:
SUMMARY:Soil Health Week
END:VEVENT
END:VCALENDAR
