BEGIN:VCALENDAR
VERSION:2.0
PRODID:-//lickingswcd.com//NONSGML kigkonsult.se iCalcreator 2.30.10//
CALSCALE:GREGORIAN
METHOD:PUBLISH
UID:27535c4b-509f-4291-abde-c6b24bec4194
X-WR-CALDESC:
X-WR-RELCALID:9f85a9f01e8bf978229aea16e1983dc3
X-WR-TIMEZONE:America/New_York
BEGIN:VTIMEZONE
TZID:America/New_York
BEGIN:STANDARD
TZNAME:EST
DTSTART:20251102T020000
TZOFFSETFROM:-0400
TZOFFSETTO:-0500
RDATE:20261101T020000
END:STANDARD
BEGIN:DAYLIGHT
TZNAME:EDT
DTSTART:20250309T020000
TZOFFSETFROM:-0500
TZOFFSETTO:-0400
RDATE:20260308T020000
RDATE:20270314T020000
END:DAYLIGHT
END:VTIMEZONE
BEGIN:VEVENT
UID:93734819-9107-476c-af10-36a9286ed379
DTSTAMP:20260420T001613Z
DESCRIPTION:
DTSTART;TZID=America/New_York:20251113T060000
DTEND;TZID=America/New_York:20251113T060001
LOCATION:771 East Main St.\, Newark\, OH 43055 US
SUMMARY:Soil Health Week Speakers
END:VEVENT
END:VCALENDAR
