BEGIN:VCALENDAR
VERSION:2.0
PRODID:-//lickingswcd.com//NONSGML kigkonsult.se iCalcreator 2.30.10//
CALSCALE:GREGORIAN
METHOD:PUBLISH
UID:8d7e396f-f385-4d0f-ae42-0054a3c600a4
X-WR-CALDESC:
X-WR-RELCALID:15b267155ed3a97a1609dcbeaefffa0d
X-WR-TIMEZONE:America/New_York
BEGIN:VTIMEZONE
TZID:America/New_York
BEGIN:STANDARD
TZNAME:EST
DTSTART:20251102T020000
TZOFFSETFROM:-0400
TZOFFSETTO:-0500
RDATE:20261101T020000
END:STANDARD
BEGIN:DAYLIGHT
TZNAME:EDT
DTSTART:20250309T020000
TZOFFSETFROM:-0500
TZOFFSETTO:-0400
RDATE:20260308T020000
RDATE:20270314T020000
END:DAYLIGHT
END:VTIMEZONE
BEGIN:VEVENT
UID:5edfc268-806f-44ad-9844-480cd4074864
DTSTAMP:20260420T001027Z
DESCRIPTION:
DTSTART;TZID=America/New_York:20251119T060000
DTEND;TZID=America/New_York:20251119T060001
LOCATION:
SUMMARY:National Camping Day
END:VEVENT
END:VCALENDAR
