BEGIN:VCALENDAR
VERSION:2.0
PRODID:-//lickingswcd.com//NONSGML kigkonsult.se iCalcreator 2.30.10//
CALSCALE:GREGORIAN
METHOD:PUBLISH
UID:0bd686ee-727f-4c62-955e-6c1352ad2e79
X-WR-CALDESC:
X-WR-RELCALID:678e83d52bf12f06a462e81656acc8d0
X-WR-TIMEZONE:America/New_York
BEGIN:VTIMEZONE
TZID:America/New_York
BEGIN:STANDARD
TZNAME:EST
DTSTART:20251102T020000
TZOFFSETFROM:-0400
TZOFFSETTO:-0500
RDATE:20261101T020000
END:STANDARD
BEGIN:DAYLIGHT
TZNAME:EDT
DTSTART:20250309T020000
TZOFFSETFROM:-0500
TZOFFSETTO:-0400
RDATE:20260308T020000
RDATE:20270314T020000
END:DAYLIGHT
END:VTIMEZONE
BEGIN:VEVENT
UID:2f39166f-5ca6-4aa6-9dca-22103bad9c00
DTSTAMP:20260420T001000Z
DESCRIPTION:
DTSTART;TZID=America/New_York:20251125T150000
DTEND;TZID=America/New_York:20251125T163000
LOCATION:934 W Main St\, Hebron\, OH 43025 US
SUMMARY:South Licking Watershed Conservancy District Meeting
END:VEVENT
END:VCALENDAR
