BEGIN:VCALENDAR
VERSION:2.0
PRODID:-//lickingswcd.com//NONSGML kigkonsult.se iCalcreator 2.30.10//
CALSCALE:GREGORIAN
METHOD:PUBLISH
UID:2c0a0f68-d6b2-4652-ab60-08d76cf7ea93
X-WR-CALDESC:
X-WR-RELCALID:5a4326b5f329998f32999426354763bf
X-WR-TIMEZONE:America/New_York
BEGIN:VTIMEZONE
TZID:America/New_York
BEGIN:STANDARD
TZNAME:EST
DTSTART:20251102T020000
TZOFFSETFROM:-0400
TZOFFSETTO:-0500
RDATE:20261101T020000
END:STANDARD
BEGIN:DAYLIGHT
TZNAME:EDT
DTSTART:20250309T020000
TZOFFSETFROM:-0500
TZOFFSETTO:-0400
RDATE:20260308T020000
RDATE:20270314T020000
END:DAYLIGHT
END:VTIMEZONE
BEGIN:VEVENT
UID:84697b64-e240-4156-960d-5fd002f090a1
DTSTAMP:20260419T221628Z
DESCRIPTION:
DTSTART;TZID=America/New_York:20251205T060000
DTEND;TZID=America/New_York:20251205T060001
LOCATION:
SUMMARY:World Soil Day
END:VEVENT
END:VCALENDAR
