BEGIN:VCALENDAR
VERSION:2.0
PRODID:-//lickingswcd.com//NONSGML kigkonsult.se iCalcreator 2.30.10//
CALSCALE:GREGORIAN
METHOD:PUBLISH
UID:67b1f230-025b-45c6-be66-d5cf8395ce38
X-WR-CALDESC:
X-WR-RELCALID:1d9727bee02508beced48d45ab9e2ce9
X-WR-TIMEZONE:America/New_York
BEGIN:VTIMEZONE
TZID:America/New_York
BEGIN:STANDARD
TZNAME:EST
DTSTART:20251102T020000
TZOFFSETFROM:-0400
TZOFFSETTO:-0500
RDATE:20261101T020000
END:STANDARD
BEGIN:DAYLIGHT
TZNAME:EDT
DTSTART:20250309T020000
TZOFFSETFROM:-0500
TZOFFSETTO:-0400
RDATE:20260308T020000
RDATE:20270314T020000
END:DAYLIGHT
END:VTIMEZONE
BEGIN:VEVENT
UID:1bfc29f4-f88c-42de-a84a-1bbf0c6ebb68
DTSTAMP:20260419T220852Z
DESCRIPTION:
DTSTART;TZID=America/New_York:20251214T060000
DTEND;TZID=America/New_York:20251214T060001
LOCATION:
SUMMARY:National Energy Conservation Day
END:VEVENT
END:VCALENDAR
