BEGIN:VCALENDAR
VERSION:2.0
PRODID:-//lickingswcd.com//NONSGML kigkonsult.se iCalcreator 2.30.10//
CALSCALE:GREGORIAN
METHOD:PUBLISH
UID:0efcefe4-7dd3-415b-80b0-03d167453938
X-WR-CALDESC:
X-WR-RELCALID:c50c8f763ec0793b5f04f1a1fb37364c
X-WR-TIMEZONE:America/New_York
BEGIN:VTIMEZONE
TZID:America/New_York
BEGIN:STANDARD
TZNAME:EST
DTSTART:20251102T020000
TZOFFSETFROM:-0400
TZOFFSETTO:-0500
RDATE:20261101T020000
END:STANDARD
BEGIN:DAYLIGHT
TZNAME:EDT
DTSTART:20250309T020000
TZOFFSETFROM:-0500
TZOFFSETTO:-0400
RDATE:20260308T020000
RDATE:20270314T020000
END:DAYLIGHT
END:VTIMEZONE
BEGIN:VEVENT
UID:d17e874a-e405-4fba-ba4a-e7d281ee327d
DTSTAMP:20260419T222539Z
DESCRIPTION:
DTSTART;TZID=America/New_York:20251224T060000
DTEND;TZID=America/New_York:20251224T060001
LOCATION:771 E Main St\, Newark\, OH 43055 US
SUMMARY:Christmas Eve - Office Closed
END:VEVENT
END:VCALENDAR
