BEGIN:VCALENDAR
VERSION:2.0
PRODID:-//lickingswcd.com//NONSGML kigkonsult.se iCalcreator 2.30.10//
CALSCALE:GREGORIAN
METHOD:PUBLISH
UID:e28c0684-7a4d-4bd5-a6f7-c8e8f90b7cfc
X-WR-CALDESC:
X-WR-RELCALID:1d7edd538135846f0f95df96939e8588
X-WR-TIMEZONE:America/New_York
BEGIN:VTIMEZONE
TZID:America/New_York
BEGIN:STANDARD
TZNAME:EST
DTSTART:20251102T020000
TZOFFSETFROM:-0400
TZOFFSETTO:-0500
RDATE:20261101T020000
END:STANDARD
BEGIN:DAYLIGHT
TZNAME:EDT
DTSTART:20250309T020000
TZOFFSETFROM:-0500
TZOFFSETTO:-0400
RDATE:20260308T020000
RDATE:20270314T020000
END:DAYLIGHT
END:VTIMEZONE
BEGIN:VEVENT
UID:2d68185a-ab10-4d85-98d7-17f26e18a2f2
DTSTAMP:20260419T221002Z
DESCRIPTION:
DTSTART;TZID=America/New_York:20251225T000000
DTEND;TZID=America/New_York:20251225T235900
LOCATION:
SUMMARY:Christmas Day - office closed
END:VEVENT
END:VCALENDAR
