BEGIN:VCALENDAR
VERSION:2.0
PRODID:-//lickingswcd.com//NONSGML kigkonsult.se iCalcreator 2.30.10//
CALSCALE:GREGORIAN
METHOD:PUBLISH
UID:8c130261-60dd-41fe-950a-993460050062
X-WR-CALDESC:
X-WR-RELCALID:a401555be4d2ac6adae8420e0133e0d4
X-WR-TIMEZONE:America/New_York
BEGIN:VTIMEZONE
TZID:America/New_York
BEGIN:STANDARD
TZNAME:EST
DTSTART:20251102T020000
TZOFFSETFROM:-0400
TZOFFSETTO:-0500
RDATE:20261101T020000
END:STANDARD
BEGIN:DAYLIGHT
TZNAME:EDT
DTSTART:20250309T020000
TZOFFSETFROM:-0500
TZOFFSETTO:-0400
RDATE:20260308T020000
RDATE:20270314T020000
END:DAYLIGHT
END:VTIMEZONE
BEGIN:VEVENT
UID:f3537e11-c835-4053-a8f1-1e3b664c8b83
DTSTAMP:20260419T221432Z
DESCRIPTION:
DTSTART;TZID=America/New_York:20251226T060000
DTEND;TZID=America/New_York:20251226T060001
LOCATION:771 E Main St\, Newark\, OH 43055 US
SUMMARY:Office Closed
END:VEVENT
END:VCALENDAR
