BEGIN:VCALENDAR
VERSION:2.0
PRODID:-//lickingswcd.com//NONSGML kigkonsult.se iCalcreator 2.30.10//
CALSCALE:GREGORIAN
METHOD:PUBLISH
UID:70314f61-1531-477a-bcf4-fd41dee2a2bc
X-WR-CALDESC:
X-WR-RELCALID:f0794d24cb77f9a213b6923638930a3b
X-WR-TIMEZONE:America/New_York
BEGIN:VTIMEZONE
TZID:America/New_York
BEGIN:STANDARD
TZNAME:EST
DTSTART:20251102T020000
TZOFFSETFROM:-0400
TZOFFSETTO:-0500
RDATE:20261101T020000
END:STANDARD
BEGIN:DAYLIGHT
TZNAME:EDT
DTSTART:20250309T020000
TZOFFSETFROM:-0500
TZOFFSETTO:-0400
RDATE:20260308T020000
RDATE:20270314T020000
END:DAYLIGHT
END:VTIMEZONE
BEGIN:VEVENT
UID:1639ad12-b962-491c-b813-348904691ecd
DTSTAMP:20260419T201740Z
DESCRIPTION:
DTSTART;TZID=America/New_York:20260105T060000
DTEND;TZID=America/New_York:20260105T060001
LOCATION:
SUMMARY:National Bird Day
END:VEVENT
END:VCALENDAR
