BEGIN:VCALENDAR
VERSION:2.0
PRODID:-//lickingswcd.com//NONSGML kigkonsult.se iCalcreator 2.30.10//
CALSCALE:GREGORIAN
METHOD:PUBLISH
UID:6ed327c0-3eea-4ffb-a34a-dbe0281e607b
X-WR-CALDESC:Visit https://secure.rec1.com/OH/licking-park-district-oh/cata
 log for more information
X-WR-RELCALID:5867976c9ef4d04ca159ebef1316f269
X-WR-TIMEZONE:America/New_York
BEGIN:VTIMEZONE
TZID:America/New_York
BEGIN:STANDARD
TZNAME:EST
DTSTART:20251102T020000
TZOFFSETFROM:-0400
TZOFFSETTO:-0500
RDATE:20261101T020000
END:STANDARD
BEGIN:DAYLIGHT
TZNAME:EDT
DTSTART:20250309T020000
TZOFFSETFROM:-0500
TZOFFSETTO:-0400
RDATE:20260308T020000
RDATE:20270314T020000
END:DAYLIGHT
END:VTIMEZONE
BEGIN:VEVENT
UID:cf0e8215-36e6-47ed-b547-982aea305174
DTSTAMP:20260419T203302Z
DESCRIPTION:Visit https://secure.rec1.com/OH/licking-park-district-oh/catal
 og for more information
DTSTART;TZID=America/New_York:20260115T060000
DTEND;TZID=America/New_York:20260115T060001
LOCATION:
SUMMARY:Licking Park District Yard ReWild Intro Program
END:VEVENT
END:VCALENDAR
