BEGIN:VCALENDAR
VERSION:2.0
PRODID:-//lickingswcd.com//NONSGML kigkonsult.se iCalcreator 2.30.10//
CALSCALE:GREGORIAN
METHOD:PUBLISH
UID:36e27457-0b8f-407a-9c80-ef8cbcd5830e
X-WR-CALDESC:
X-WR-RELCALID:2c33cc3e7da8dd1c9a17e0ba716d7903
X-WR-TIMEZONE:America/New_York
BEGIN:VTIMEZONE
TZID:America/New_York
BEGIN:STANDARD
TZNAME:EST
DTSTART:20251102T020000
TZOFFSETFROM:-0400
TZOFFSETTO:-0500
RDATE:20261101T020000
END:STANDARD
BEGIN:DAYLIGHT
TZNAME:EDT
DTSTART:20250309T020000
TZOFFSETFROM:-0500
TZOFFSETTO:-0400
RDATE:20260308T020000
RDATE:20270314T020000
END:DAYLIGHT
END:VTIMEZONE
BEGIN:VEVENT
UID:e44c49fb-cd7c-49c9-b0d3-7b030d910169
DTSTAMP:20260419T202704Z
DESCRIPTION:
DTSTART;TZID=America/New_York:20260119T060000
DTEND;TZID=America/New_York:20260119T060001
LOCATION:771 East Main St.\, Newark\, OH 43055 US
SUMMARY:Martin Luther King Jr. Day - Office Closed
END:VEVENT
END:VCALENDAR
