BEGIN:VCALENDAR
VERSION:2.0
PRODID:-//lickingswcd.com//NONSGML kigkonsult.se iCalcreator 2.30.10//
CALSCALE:GREGORIAN
METHOD:PUBLISH
UID:437a5e2a-89bb-40a8-bceb-5ddc139312f8
X-WR-CALDESC:Licking County Recycling is collecting old Shristmas lights fo
 r recycling. \nView drop of locations here:\nhttps://www.facebook.com/phot
 o.php?fbid=1307619524742114&set=pb.100064822353433.-2207520000&type=3
X-WR-RELCALID:b0fa51b7c10c764d96ed0c7ff356124b
X-WR-TIMEZONE:America/New_York
BEGIN:VTIMEZONE
TZID:America/New_York
BEGIN:STANDARD
TZNAME:EST
DTSTART:20251102T020000
TZOFFSETFROM:-0400
TZOFFSETTO:-0500
RDATE:20261101T020000
END:STANDARD
BEGIN:DAYLIGHT
TZNAME:EDT
DTSTART:20250309T020000
TZOFFSETFROM:-0500
TZOFFSETTO:-0400
RDATE:20260308T020000
RDATE:20270314T020000
END:DAYLIGHT
END:VTIMEZONE
BEGIN:VEVENT
UID:7b7f25ca-8afb-4a53-b6e6-0ed93c067e25
DTSTAMP:20260419T201506Z
DESCRIPTION:Licking County Recycling is collecting old Shristmas lights for
  recycling. \nView drop of locations here:\nhttps://www.facebook.com/photo
 .php?fbid=1307619524742114&set=pb.100064822353433.-2207520000&type=3
DTSTART;TZID=America/New_York:20260121T060000
DTEND;TZID=America/New_York:20260121T060001
LOCATION:771 E Main St\, Newark\, OH 43055 US
SUMMARY:Christmas Light Recycling Deadline
END:VEVENT
END:VCALENDAR
