BEGIN:VCALENDAR
VERSION:2.0
PRODID:-//lickingswcd.com//NONSGML kigkonsult.se iCalcreator 2.30.10//
CALSCALE:GREGORIAN
METHOD:PUBLISH
UID:cace65d8-94f0-4800-8101-71db9757cedb
X-WR-CALDESC:Visit https://www.northcentralohiopollinatorpathway.org/event-
 details/re-learning-the-earth-third-annual-summit for more info!
X-WR-RELCALID:9df0c3251ac28f73eb59476c838e4dcc
X-WR-TIMEZONE:America/New_York
BEGIN:VTIMEZONE
TZID:America/New_York
BEGIN:STANDARD
TZNAME:EST
DTSTART:20251102T020000
TZOFFSETFROM:-0400
TZOFFSETTO:-0500
RDATE:20261101T020000
END:STANDARD
BEGIN:DAYLIGHT
TZNAME:EDT
DTSTART:20250309T020000
TZOFFSETFROM:-0500
TZOFFSETTO:-0400
RDATE:20260308T020000
RDATE:20270314T020000
END:DAYLIGHT
END:VTIMEZONE
BEGIN:VEVENT
UID:821e6991-a390-4f9b-8fd7-3c17d1661b23
DTSTAMP:20260419T203340Z
DESCRIPTION:Visit https://www.northcentralohiopollinatorpathway.org/event-d
 etails/re-learning-the-earth-third-annual-summit for more info!
DTSTART;TZID=America/New_York:20260131T060000
DTEND;TZID=America/New_York:20260131T060001
LOCATION:
SUMMARY:Pollinator Pathways Summit
END:VEVENT
END:VCALENDAR
