BEGIN:VCALENDAR
VERSION:2.0
PRODID:-//lickingswcd.com//NONSGML kigkonsult.se iCalcreator 2.30.10//
CALSCALE:GREGORIAN
METHOD:PUBLISH
UID:867e8877-b64f-4107-8900-1e6839ac8d69
X-WR-CALDESC:
X-WR-RELCALID:c0ec1048066ece9d9404d185306060f1
X-WR-TIMEZONE:America/New_York
BEGIN:VTIMEZONE
TZID:America/New_York
BEGIN:STANDARD
TZNAME:EST
DTSTART:20251102T020000
TZOFFSETFROM:-0400
TZOFFSETTO:-0500
RDATE:20261101T020000
END:STANDARD
BEGIN:DAYLIGHT
TZNAME:EDT
DTSTART:20250309T020000
TZOFFSETFROM:-0500
TZOFFSETTO:-0400
RDATE:20260308T020000
RDATE:20270314T020000
END:DAYLIGHT
END:VTIMEZONE
BEGIN:VEVENT
UID:53ce7707-aa84-4778-9c29-82450151d618
DTSTAMP:20260419T180809Z
DESCRIPTION:
DTSTART;TZID=America/New_York:20260211T060000
DTEND;TZID=America/New_York:20260211T060001
LOCATION:
SUMMARY:International Day of Women in Science
END:VEVENT
END:VCALENDAR
