BEGIN:VCALENDAR
VERSION:2.0
PRODID:-//lickingswcd.com//NONSGML kigkonsult.se iCalcreator 2.30.10//
CALSCALE:GREGORIAN
METHOD:PUBLISH
UID:c9c9a358-5c27-42c9-94d1-d8d5e7b8560f
X-WR-CALDESC:Farmers should consider applying for both the CAUV and Ag Dist
 rict program. Visit the websites below for more information on benefits an
 d qualifications.\n\nCAUV: https://tax.ohio.gov/government/real-state/cauv
 \nAg District: https://agri.ohio.gov/programs/farmland-preservation-office
 /forms/agricultural-district-ag-form
X-WR-RELCALID:5e13427ebeeffa2b6600a10b50da68bf
X-WR-TIMEZONE:America/New_York
BEGIN:VTIMEZONE
TZID:America/New_York
BEGIN:STANDARD
TZNAME:EST
DTSTART:20251102T020000
TZOFFSETFROM:-0400
TZOFFSETTO:-0500
RDATE:20261101T020000
END:STANDARD
BEGIN:DAYLIGHT
TZNAME:EDT
DTSTART:20250309T020000
TZOFFSETFROM:-0500
TZOFFSETTO:-0400
RDATE:20260308T020000
RDATE:20270314T020000
END:DAYLIGHT
END:VTIMEZONE
BEGIN:VEVENT
UID:88994126-9ad4-47ca-93a4-f26cad0a7fb3
DTSTAMP:20260419T182748Z
DESCRIPTION:Farmers should consider applying for both the CAUV and Ag Distr
 ict program. Visit the websites below for more information on benefits and
  qualifications.\n\nCAUV: https://tax.ohio.gov/government/real-state/cauv
 \nAg District: https://agri.ohio.gov/programs/farmland-preservation-office
 /forms/agricultural-district-ag-form
DTSTART;TZID=America/New_York:20260227T060000
DTEND;TZID=America/New_York:20260227T060001
LOCATION:
SUMMARY:CAUV and Ag District Application Deadline
END:VEVENT
END:VCALENDAR
