BEGIN:VCALENDAR
VERSION:2.0
PRODID:-//lickingswcd.com//NONSGML kigkonsult.se iCalcreator 2.30.10//
CALSCALE:GREGORIAN
METHOD:PUBLISH
UID:c3f192ae-fa53-44ac-95b3-eb5e569fabd6
X-WR-CALDESC:Have a blast with The Works and our community partners as we e
 xplore STEM with activity stations throughout the museum during this free 
 annual family event! Since 2009\, this event has brought youth and familie
 s face-to-face with STEM experts from aeronautics to environmental enginee
 ring to robotics – and everything in between. Community partners and indus
 try exhibitors will be showcasing how STEM plays a part in their work ever
 y day. Visit our calendar for more information about this fan-favorite eve
 nt!
X-WR-RELCALID:29f17322e1f61502086b18e48d7bfc82
X-WR-TIMEZONE:America/New_York
BEGIN:VTIMEZONE
TZID:America/New_York
BEGIN:STANDARD
TZNAME:EST
DTSTART:20251102T020000
TZOFFSETFROM:-0400
TZOFFSETTO:-0500
RDATE:20261101T020000
END:STANDARD
BEGIN:DAYLIGHT
TZNAME:EDT
DTSTART:20250309T020000
TZOFFSETFROM:-0500
TZOFFSETTO:-0400
RDATE:20260308T020000
RDATE:20270314T020000
END:DAYLIGHT
END:VTIMEZONE
BEGIN:VEVENT
UID:9bd7f838-30f3-4f48-b46c-fde33a4e50db
DTSTAMP:20260419T182009Z
DESCRIPTION:Have a blast with The Works and our community partners as we ex
 plore STEM with activity stations throughout the museum during this free a
 nnual family event! Since 2009\, this event has brought youth and families
  face-to-face with STEM experts from aeronautics to environmental engineer
 ing to robotics – and everything in between. Community partners and indust
 ry exhibitors will be showcasing how STEM plays a part in their work every
  day. Visit our calendar for more information about this fan-favorite even
 t!
DTSTART;TZID=America/New_York:20260228T100000
DTEND;TZID=America/New_York:20260228T140000
LOCATION:55 S 1st St\, Newark\, OH 43055 US
SUMMARY:@ The Works STEMfest
END:VEVENT
END:VCALENDAR
