BEGIN:VCALENDAR
VERSION:2.0
PRODID:-//lickingswcd.com//NONSGML kigkonsult.se iCalcreator 2.30.10//
CALSCALE:GREGORIAN
METHOD:PUBLISH
UID:f9cc46cf-958d-4d70-a61a-dad5c7baf836
X-WR-CALDESC:Be sure to join us Saturday\, March 7 for our annual Farmers S
 hare Breakfast! We are so excited to have made-to-order omelets back\, as 
 well as introducing awesome vendors\, and a raffle. Cash\, check\, and Ven
 mo donations will be accepted the day of our event!\n\nAll sponsorships an
 d donations go toward supporting 4-H members attending 4-H Camp this summe
 r. Your contributions offset the cost of camp for every camper!
X-WR-RELCALID:9b0ed2b17a5311b0223f3c49161e383e
X-WR-TIMEZONE:America/New_York
BEGIN:VTIMEZONE
TZID:America/New_York
BEGIN:STANDARD
TZNAME:EST
DTSTART:20251102T020000
TZOFFSETFROM:-0400
TZOFFSETTO:-0500
RDATE:20261101T020000
END:STANDARD
BEGIN:DAYLIGHT
TZNAME:EDT
DTSTART:20250309T020000
TZOFFSETFROM:-0500
TZOFFSETTO:-0400
RDATE:20260308T020000
RDATE:20270314T020000
END:DAYLIGHT
END:VTIMEZONE
BEGIN:VEVENT
UID:7d6caf07-19bb-437f-82dc-588bf89104e1
DTSTAMP:20260419T163148Z
DESCRIPTION:Be sure to join us Saturday\, March 7 for our annual Farmers Sh
 are Breakfast! We are so excited to have made-to-order omelets back\, as w
 ell as introducing awesome vendors\, and a raffle. Cash\, check\, and Venm
 o donations will be accepted the day of our event!\n\nAll sponsorships and
  donations go toward supporting 4-H members attending 4-H Camp this summer
 . Your contributions offset the cost of camp for every camper!
DTSTART;TZID=America/New_York:20260307T073000
DTEND;TZID=America/New_York:20260307T100000
LOCATION:C-TEC 150 Price Road \, Newark\, OH 43055 US
SUMMARY:@ Farm Bureau Farmer Share Breakfast
END:VEVENT
END:VCALENDAR
