BEGIN:VCALENDAR
VERSION:2.0
PRODID:-//lickingswcd.com//NONSGML kigkonsult.se iCalcreator 2.30.10//
CALSCALE:GREGORIAN
METHOD:PUBLISH
UID:738b74ab-fd6e-4b4c-9e1b-f5bfecbe2f91
X-WR-CALDESC:
X-WR-RELCALID:c8091a299f2ed3508fa89d1cc976768c
X-WR-TIMEZONE:America/New_York
BEGIN:VTIMEZONE
TZID:America/New_York
BEGIN:STANDARD
TZNAME:EST
DTSTART:20251102T020000
TZOFFSETFROM:-0400
TZOFFSETTO:-0500
RDATE:20261101T020000
END:STANDARD
BEGIN:DAYLIGHT
TZNAME:EDT
DTSTART:20260308T020000
TZOFFSETFROM:-0500
TZOFFSETTO:-0400
RDATE:20270314T020000
END:DAYLIGHT
END:VTIMEZONE
BEGIN:VEVENT
UID:284100d4-ef3e-4cf8-9024-941ae8c710b6
DTSTAMP:20260419T163954Z
DESCRIPTION:
DTSTART;TZID=America/New_York:20260312T173000
DTEND;TZID=America/New_York:20260312T200000
LOCATION:2590 Montgomery Rd NE\, Newark\, OH 43055 US
SUMMARY:Forestry Field Day
END:VEVENT
END:VCALENDAR
