BEGIN:VCALENDAR
VERSION:2.0
PRODID:-//lickingswcd.com//NONSGML kigkonsult.se iCalcreator 2.30.10//
CALSCALE:GREGORIAN
METHOD:PUBLISH
UID:94c91435-787b-4474-9901-601b47a400a9
X-WR-CALDESC:
X-WR-RELCALID:abe3f2d88f2ef147b23a9c42aa00b7c8
X-WR-TIMEZONE:America/New_York
BEGIN:VTIMEZONE
TZID:America/New_York
BEGIN:STANDARD
TZNAME:EST
DTSTART:20251102T020000
TZOFFSETFROM:-0400
TZOFFSETTO:-0500
RDATE:20261101T020000
END:STANDARD
BEGIN:DAYLIGHT
TZNAME:EDT
DTSTART:20260308T020000
TZOFFSETFROM:-0500
TZOFFSETTO:-0400
RDATE:20270314T020000
END:DAYLIGHT
END:VTIMEZONE
BEGIN:VEVENT
UID:0ab6e4f5-c2b3-49a1-8b96-f2211453b5f6
DTSTAMP:20260419T164127Z
DESCRIPTION:
DTSTART;TZID=America/New_York:20260314T060000
DTEND;TZID=America/New_York:20260314T060001
LOCATION:
SUMMARY:International Day of Action for Rivers
END:VEVENT
END:VCALENDAR
